BEGIN:VCALENDAR
VERSION:2.0
PRODID:-//eventon.com NONSGML v1.0//EN
CALSCALE:GREGORIAN
METHOD:PUBLISH
BEGIN:VEVENT
UID:69e7511fdec9f
DTSTAMP:20260421T102743Z
DTSTART:20221224T023000Z
DTEND:20221224T045900Z
LOCATION:Asbury Park Yacht Club 1000 Ocean Ave\,  Asbury Park\,  NJ 07712
SUMMARY:Sunshine Spazz\,  Sweet Joey's Thing of Beauty
DESCRIPTION:Sunshine Spazz\,  Sweet Joey&#8217;s Thing of Beauty\nhttps://a
 pboardwalk.com/news/events/sunshine-spazz-drug-mirror/
URL:https://apboardwalk.com/news/events/sunshine-spazz-drug-mirror/
END:VEVENT
END:VCALENDAR