BEGIN:VCALENDAR
VERSION:2.0
PRODID:-//eventon.com NONSGML v1.0//EN
CALSCALE:GREGORIAN
METHOD:PUBLISH
BEGIN:VEVENT
UID:69e5dee10f5cf
DTSTAMP:20260420T080801Z
DTSTART:20220212T170000Z
DTEND:20220212T220000Z
LOCATION:Convention Hall 1300 Ocean Avenue Asbury Park\,  NJ 07712
SUMMARY:Asbury Park Valentine’s Bazaar
DESCRIPTION:Asbury Park Valentine’s Bazaar\nhttps://apboardwalk.com/news/
 events/asbury-park-valentines-bazaar/
URL:https://apboardwalk.com/news/events/asbury-park-valentines-bazaar/
END:VEVENT
END:VCALENDAR