BEGIN:VCALENDAR
VERSION:2.0
PRODID:-//eventon.com NONSGML v1.0//EN
CALSCALE:GREGORIAN
METHOD:PUBLISH
BEGIN:VEVENT
UID:69e4ca8f98670
DTSTAMP:20260419T122903Z
DTSTART:20220227T000000Z
DTEND:20220227T000000Z
LOCATION:The Stone Pony 913 Ocean Avenue Asbury Park\,  NJ 07712
SUMMARY:Lucy Dacus
DESCRIPTION:Lucy Dacus Indigo De Souza The artist requires proof of Covid-1
 9 vaccination for attendees at this show &nbsp;\nhttps://apboardwalk.com/ne
 ws/events/lucy-dacus/
URL:https://apboardwalk.com/news/events/lucy-dacus/
END:VEVENT
END:VCALENDAR