BEGIN:VCALENDAR
VERSION:2.0
PRODID:-//eventon.com NONSGML v1.0//EN
CALSCALE:GREGORIAN
METHOD:PUBLISH
BEGIN:VEVENT
UID:69e5ddcb0591e
DTSTAMP:20260420T080323Z
DTSTART:20211127T020000Z
DTEND:20211127T020000Z
LOCATION:Langosta Lounge 1000 Ocean Ave\,  Asbury Park\,  NJ 07712
SUMMARY:Karlee Bloom & Friends
DESCRIPTION:Karlee Bloom &amp; Friends\nhttps://apboardwalk.com/news/events
 /karlee-bloom-friends/
URL:https://apboardwalk.com/news/events/karlee-bloom-friends/
END:VEVENT
END:VCALENDAR