BEGIN:VCALENDAR
VERSION:2.0
PRODID:-//eventon.com NONSGML v1.0//EN
CALSCALE:GREGORIAN
METHOD:PUBLISH
BEGIN:VEVENT
UID:69e764bfbf669
DTSTAMP:20260421T115127Z
DTSTART:20211211T233000Z
DTEND:20211211T233000Z
LOCATION:Wonder Bar 1213 Ocean Avenue Asbury Park\,  NJ 07712
SUMMARY:Disco Dance Night Benefit
DESCRIPTION:Special Disco Dance Night to Benefit Asbury Boardwalk Rescue Jo
 in Rico Rivera as the Wonder Bar welcomes The Discoteks and special guest h
 ost Felipe Rose\,  the original native character of The Village People Proo
 f of vaccination or proof of 72-hour negative Covid test required Doors at 
 6:30\,  showtime 7\nhttps://apboardwalk.com/news/events/disco-dance-night-b
 enefit/
URL:https://apboardwalk.com/news/events/disco-dance-night-benefit/
END:VEVENT
END:VCALENDAR