BEGIN:VCALENDAR
VERSION:2.0
PRODID:-//eventon.com NONSGML v1.0//EN
CALSCALE:GREGORIAN
METHOD:PUBLISH
BEGIN:VEVENT
UID:69e897a37d9cf
DTSTAMP:20260422T094051Z
DTSTART:20211029T230000Z
DTEND:20211029T230000Z
LOCATION:The Stone Pony 913 Ocean Avenue Asbury Park\,  NJ 07712
SUMMARY:Local Legends Halloween Bash
DESCRIPTION:LOCAL LEGENDS HALLOWEEN BASH From the creators of Convention He
 ll DES &amp; THE SWAGMATICS / Donna Summer FOES OF FERN / MCR MISTER TICKLE
  HANDS / Jock Jams DAUGHTER VISION / Devo NATALIE FARRELL / JLO OLIVIA BEC 
 / Nirvana The Event Organizer is requiring all attendees of this event[..]\
 nhttps://apboardwalk.com/news/events/local-legends-halloween-bash/
URL:https://apboardwalk.com/news/events/local-legends-halloween-bash/
END:VEVENT
END:VCALENDAR