BEGIN:VCALENDAR
VERSION:2.0
PRODID:-//eventon.com NONSGML v1.0//EN
CALSCALE:GREGORIAN
METHOD:PUBLISH
BEGIN:VEVENT
UID:69e4e6f124937
DTSTAMP:20260419T143009Z
DTSTART:20220402T233000Z
DTEND:20220402T233000Z
LOCATION:Paramount Theatre 1300 Ocean Avenue Asbury Park\,  NJ 07712
SUMMARY:CANCELLED: Theresa Caputo
DESCRIPTION:UPDATE: Theresa Caputo Live! The Experience at The Paramount Th
 eatre scheduled for April 2\,  2022 at 7:30pm and April 3\,  2022 at 3:0
 0pm are cancelled. Refunds are available at point of purchase.\nhttps://apb
 oardwalk.com/news/events/theresa-caputo-live-the-experience/
URL:https://apboardwalk.com/news/events/theresa-caputo-live-the-experience/
END:VEVENT
END:VCALENDAR