BEGIN:VCALENDAR
VERSION:2.0
PRODID:-//eventon.com NONSGML v1.0//EN
CALSCALE:GREGORIAN
METHOD:PUBLISH
BEGIN:VEVENT
UID:69e886dfc6f81
DTSTAMP:20260422T082919Z
DTSTART:20210828T230000Z
DTEND:20210828T230000Z
LOCATION:The Stone Pony 913 Ocean Avenue Asbury Park\,  NJ 07712
SUMMARY:Alan Longo & Love Ian
DESCRIPTION:ALAN LONGO &amp; LOVE IAN TRAY BNDO along with JUAN G + others 
 Music by AGAMBZ Hosted by Straight to the Biz\nhttps://apboardwalk.com/news
 /events/alan-longo-love-ian/
URL:https://apboardwalk.com/news/events/alan-longo-love-ian/
END:VEVENT
END:VCALENDAR