BEGIN:VCALENDAR
VERSION:2.0
PRODID:-//eventon.com NONSGML v1.0//EN
CALSCALE:GREGORIAN
METHOD:PUBLISH
BEGIN:VEVENT
UID:69e73ff7d9dd2
DTSTAMP:20260421T091431Z
DTSTART:20220610T000000Z
DTEND:20220610T020000Z
LOCATION:Langosta Lounge 1000 Ocean Ave\,  Asbury Park\,  NJ 07712
SUMMARY:Cranston Dean & Friends
DESCRIPTION:THE BAYSHORE REVUE WITH CRANSTON DEAN &amp; FRIENDS\nhttps://ap
 boardwalk.com/news/events/cranston-dean-riley-shiro/var/ri-1.l-L1
URL:https://apboardwalk.com/news/events/cranston-dean-riley-shiro/var/ri-1.l-L1
END:VEVENT
END:VCALENDAR