BEGIN:VCALENDAR
VERSION:2.0
PRODID:-//eventon.com NONSGML v1.0//EN
CALSCALE:GREGORIAN
METHOD:PUBLISH
BEGIN:VEVENT
UID:69eb21e64c6e6
DTSTAMP:20260424T075518Z
DTSTART:20221219T000000Z
DTEND:20221219T000000Z
LOCATION:Tim McLoone’s Supper Club 1200 Ocean Avenue Asbury Park\,  NJ 07712
SUMMARY:Motor City Revue Holiday Show
DESCRIPTION:Covering popular and rare Motown hits\,  plus popular rock and 
 soul classics\,  dedicated to honoring this world-renowned signature sound.
  Wear your dancing shoes! Doors at 6\,  show starts at 7.\nhttps://apboardw
 alk.com/news/events/motor-city-revue/
URL:https://apboardwalk.com/news/events/motor-city-revue/
END:VEVENT
END:VCALENDAR