BEGIN:VCALENDAR
VERSION:2.0
PRODID:-//eventon.com NONSGML v1.0//EN
CALSCALE:GREGORIAN
METHOD:PUBLISH
BEGIN:VEVENT
UID:69e74011e1a99
DTSTAMP:20260421T091457Z
DTSTART:20210618T220000Z
DTEND:20210618T220000Z
LOCATION:The Stone Pony 913 Ocean Avenue Asbury Park\,  NJ 07712
SUMMARY:Jarod Clemons and The Livesays
DESCRIPTION:BIG MAN&#8217;S BLAST: A TEN-YEAR TOAST TO THE BIG MAN An Event
  to Toast the Life of Clarence Clemons Hosted by Tom Hanley from WRAT&#8217
 ;s Jersey Rock Live performances by Jarod Clemons &amp; the Late Nights and
  The Livesays featuring Billy Livesay\,  vocalist\,  guitarist and musical 
 director for Clarence Clemons&#8217;[..]\nhttps://apboardwalk.com/news/even
 ts/jarod-clemons-and-the-livesays/
URL:https://apboardwalk.com/news/events/jarod-clemons-and-the-livesays/
END:VEVENT
END:VCALENDAR