BEGIN:VCALENDAR
VERSION:2.0
PRODID:-//eventon.com NONSGML v1.0//EN
CALSCALE:GREGORIAN
METHOD:PUBLISH
BEGIN:VEVENT
UID:69eb244381f04
DTSTAMP:20260424T080523Z
DTSTART:20210620T170000Z
DTEND:20210620T190000Z
LOCATION:Langosta Lounge 1000 Ocean Ave\,  Asbury Park\,  NJ 07712
SUMMARY:Matt Witte
DESCRIPTION:Matt Witte of Coach &#8216;n Commando Music starts around 8pm. 
 Please call to make reservations. There is a $20 minimum per person table s
 pend. &nbsp;\nhttps://apboardwalk.com/news/events/matt-witte/
URL:https://apboardwalk.com/news/events/matt-witte/
END:VEVENT
END:VCALENDAR