BEGIN:VCALENDAR
VERSION:2.0
PRODID:-//eventon.com NONSGML v1.0//EN
CALSCALE:GREGORIAN
METHOD:PUBLISH
BEGIN:VEVENT
UID:69e4e702dc902
DTSTAMP:20260419T143026Z
DTSTART:20221217T020000Z
DTEND:20221217T045900Z
LOCATION:Asbury Park Yacht Club 1000 Ocean Ave\,  Asbury Park\,  NJ 07712
SUMMARY:Brother Andrew Band\,  Rivva
DESCRIPTION:BROTHER ANDREW BAND &amp; RIVVA &nbsp;\nhttps://apboardwalk.com
 /news/events/the-cold-seas-brother-andrew/
URL:https://apboardwalk.com/news/events/the-cold-seas-brother-andrew/
END:VEVENT
END:VCALENDAR