BEGIN:VCALENDAR
VERSION:2.0
PRODID:-//eventon.com NONSGML v1.0//EN
CALSCALE:GREGORIAN
METHOD:PUBLISH
BEGIN:VEVENT
UID:69e72f1344a2d
DTSTAMP:20260421T080227Z
DTSTART:20261002T223000Z
DTEND:20261003T023000Z
LOCATION:The Stone Pony Summer Stage 913 Ocean Avenue\,  Asbury Park NJ 07712
SUMMARY:Charley Crockett
DESCRIPTION:CHARLEY CROCKETT Age of the Ram Tour Durand Jones &amp; the Ind
 ications on The Stone Pony Summer Stage Charley Crockett\,  in partnership 
 with PLUS1\,  will contribute $1.00 from every ticket sold to Last Prisoner
  Project\,  a 501(c)(3) organization\,  to support efforts to free individu
 als incarcerated for cannabis-related offenses and repair[..]\nhttps://apbo
 ardwalk.com/news/events/charley-crockett/
URL:https://apboardwalk.com/news/events/charley-crockett/
END:VEVENT
END:VCALENDAR