BEGIN:VCALENDAR
VERSION:2.0
PRODID:-//eventon.com NONSGML v1.0//EN
CALSCALE:GREGORIAN
METHOD:PUBLISH
BEGIN:VEVENT
UID:69e7534c20e5a
DTSTAMP:20260421T103700Z
DTSTART:20260628T230000Z
DTEND:20260628T230000Z
LOCATION:Wonder Bar 1213 Ocean Avenue Asbury Park\,  NJ 07712
SUMMARY:Juice
DESCRIPTION:North 2 Shore presents JUICE Doors: 7:00 PM Show: 8:00 PM 21+\n
 https://apboardwalk.com/news/events/juice-2/
URL:https://apboardwalk.com/news/events/juice-2/
END:VEVENT
END:VCALENDAR