BEGIN:VCALENDAR
VERSION:2.0
PRODID:-//eventon.com NONSGML v1.0//EN
CALSCALE:GREGORIAN
METHOD:PUBLISH
BEGIN:VEVENT
UID:69e7667361571
DTSTAMP:20260421T115843Z
DTSTART:20260222T170000Z
DTEND:20260222T190000Z
LOCATION:AP Rooftop 1200 Ocean Ave\,  Third Floor
SUMMARY:Forever Linked Galentine’s Brunch
DESCRIPTION:Forever Linked Galentine’s Brunch &nbsp;\nhttps://apboardwalk
 .com/news/events/forever-linked-galentines-brunch/
URL:https://apboardwalk.com/news/events/forever-linked-galentines-brunch/
END:VEVENT
END:VCALENDAR