BEGIN:VCALENDAR
VERSION:2.0
PRODID:-//eventon.com NONSGML v1.0//EN
CALSCALE:GREGORIAN
METHOD:PUBLISH
BEGIN:VEVENT
UID:69e88488580d7
DTSTAMP:20260422T081920Z
DTSTART:20260503T230000Z
DTEND:20260503T230000Z
LOCATION:Wonder Bar 1213 Ocean Avenue Asbury Park\,  NJ 07712
SUMMARY:The Felice Brothers
DESCRIPTION:THE FELICE BROTHERS Nic Panken In the Valley of Abandoned Songs
 \,  hope and joy sit side by side with fear and sorrow. As you stroll among
 st the wildflowers and tombstones that dot the landscape\,  you’ll pass i
 nnocence and shame\,  faith and despair\,  loneliness and love. You’ll fe
 el the warm glow[..]\nhttps://apboardwalk.com/news/events/the-felice-brothe
 rs/
URL:https://apboardwalk.com/news/events/the-felice-brothers/
END:VEVENT
END:VCALENDAR