BEGIN:VCALENDAR
VERSION:2.0
PRODID:-//eventon.com NONSGML v1.0//EN
CALSCALE:GREGORIAN
METHOD:PUBLISH
BEGIN:VEVENT
UID:69e73fee19447
DTSTAMP:20260421T091422Z
DTSTART:20260502T000000Z
DTEND:20260502T000000Z
LOCATION:Wonder Bar 1213 Ocean Avenue Asbury Park\,  NJ 07712
SUMMARY:Yacht Lobsters
DESCRIPTION:Yacht Lobsters Doors 8pm Show 9pm 21+\nhttps://apboardwalk.com/
 news/events/yacht-lobsters-4/
URL:https://apboardwalk.com/news/events/yacht-lobsters-4/
END:VEVENT
END:VCALENDAR