BEGIN:VCALENDAR
VERSION:2.0
PRODID:-//eventon.com NONSGML v1.0//EN
CALSCALE:GREGORIAN
METHOD:PUBLISH
BEGIN:VEVENT
UID:69e9d64dea5a1
DTSTAMP:20260423T082029Z
DTSTART:20251223T233000Z
DTEND:20251224T023000Z
LOCATION:Tim McLoone’s Supper Club 1200 Ocean Avenue Asbury Park\,  NJ 07712
SUMMARY:Bob Egan's Piano Party
DESCRIPTION:Bob Egan&#8217;s Piano Party\nhttps://apboardwalk.com/news/even
 ts/bob-egans-piano-party-3/
URL:https://apboardwalk.com/news/events/bob-egans-piano-party-3/
END:VEVENT
END:VCALENDAR