BEGIN:VCALENDAR
VERSION:2.0
PRODID:-//eventon.com NONSGML v1.0//EN
CALSCALE:GREGORIAN
METHOD:PUBLISH
BEGIN:VEVENT
UID:69e5ff72c160d
DTSTAMP:20260420T102658Z
DTSTART:20251110T000000Z
DTEND:20251110T000000Z
LOCATION:Wonder Bar 1213 Ocean Avenue Asbury Park\,  NJ 07712
SUMMARY:Manzo Rising Triple Tribute Show
DESCRIPTION:Manzo Rising Triple Tribute Show A Night of Classic Rock Tribut
 es featuring Musicians from Top NJ Bands Colossal Street Jam and The Morocc
 an Sheepherders Manzo Rising (the band) with Alan Manzo doing the best of T
 he DOORS Guns 4 Hire &amp; friends\,  doing the Best of the ALLMAN BROTHERS
  Rich[..]\nhttps://apboardwalk.com/news/events/manzo-rising-triple-tribute-
 show/
URL:https://apboardwalk.com/news/events/manzo-rising-triple-tribute-show/
END:VEVENT
END:VCALENDAR