BEGIN:VCALENDAR
VERSION:2.0
PRODID:-//eventon.com NONSGML v1.0//EN
CALSCALE:GREGORIAN
METHOD:PUBLISH
BEGIN:VEVENT
UID:69e5ffd8ef69d
DTSTAMP:20260420T102840Z
DTSTART:20250912T233000Z
DTEND:20250912T233000Z
LOCATION:Wonder Bar 1213 Ocean Avenue Asbury Park\,  NJ 07712
SUMMARY:Jarod Clemons\,  Blaise\,  Echo Plum
DESCRIPTION:Sea.Hear.Now Presents There Goes The Neighborhood featuring Jar
 od Clemons\,  Blaise and Echo Plum Doors: 7:30 pm Show: 8:00 pm 21+\nhttps:
 //apboardwalk.com/news/events/jarod-clemons-blaise-echo-plum/
URL:https://apboardwalk.com/news/events/jarod-clemons-blaise-echo-plum/
END:VEVENT
END:VCALENDAR