BEGIN:VCALENDAR
VERSION:2.0
PRODID:-//eventon.com NONSGML v1.0//EN
CALSCALE:GREGORIAN
METHOD:PUBLISH
BEGIN:VEVENT
UID:69e9d8c64fd8e
DTSTAMP:20260423T083102Z
DTSTART:20250817T020000Z
DTEND:20250817T020000Z
LOCATION:Low Dive 1000 Ocean Avenue
SUMMARY:The Vansaders
DESCRIPTION:The Vansaders Ron Santee &amp; Friends Stoked for the Summer Af
 terparty\nhttps://apboardwalk.com/news/events/the-vansaders-2/
URL:https://apboardwalk.com/news/events/the-vansaders-2/
END:VEVENT
END:VCALENDAR