BEGIN:VCALENDAR
VERSION:2.0
PRODID:-//eventon.com NONSGML v1.0//EN
CALSCALE:GREGORIAN
METHOD:PUBLISH
BEGIN:VEVENT
UID:69e8865e2ef04
DTSTAMP:20260422T082710Z
DTSTART:20250803T020000Z
DTEND:20250803T020000Z
LOCATION:Palmetto 1000 Ocean Avenue\,  Asbury Park NJ USA
SUMMARY:Krush
DESCRIPTION:Krush\nhttps://apboardwalk.com/news/events/krush/
URL:https://apboardwalk.com/news/events/krush/
END:VEVENT
END:VCALENDAR