BEGIN:VCALENDAR
VERSION:2.0
PRODID:-//eventon.com NONSGML v1.0//EN
CALSCALE:GREGORIAN
METHOD:PUBLISH
BEGIN:VEVENT
UID:69e61019998c0
DTSTAMP:20260420T113801Z
DTSTART:20250719T160000Z
DTEND:20250719T190000Z
LOCATION:Mutiny Beach 1300 Ocean Avenue (inside Convention Hall) Asbury Park\,  NJ 07712
SUMMARY:Josh Zuckerman
DESCRIPTION:Josh Zuckerman Musician\,  singer\,  songwriter and recording a
 rtist Josh Zuckerman continues to excite and impress audiences from coast t
 o coast and internationally. Josh has performed at hundreds of venues\,  cl
 ubs\,  events and concerts from North America to Europe. He has entertained
  alongside such notables as Macy Gray\,  The Indigo Girls\, [..]\nhttps://a
 pboardwalk.com/news/events/josh-zuckerman-3/
URL:https://apboardwalk.com/news/events/josh-zuckerman-3/
END:VEVENT
END:VCALENDAR