BEGIN:VCALENDAR
VERSION:2.0
PRODID:-//eventon.com NONSGML v1.0//EN
CALSCALE:GREGORIAN
METHOD:PUBLISH
BEGIN:VEVENT
UID:69e8968b28ae9
DTSTAMP:20260422T093611Z
DTSTART:20250823T233000Z
DTEND:20250823T233000Z
LOCATION:Wonder Bar 1213 Ocean Avenue Asbury Park\,  NJ 07712
SUMMARY:Billy Hector's Birthday Bash
DESCRIPTION:BILLY HECTOR&#8217;S BIRTHDAY BASH FEATURING THE MIDNITE HORNS\
 ,  KEYS AND THE QUEEN Whether Billy Hector is teasing you with his sultry s
 lide work\,  picking through delta blues or flat-out cranking it up and cru
 nching out the electric blues/rock on his beloved vintage Fender Stratocast
 er\,  his music reflects the true soul[..]\nhttps://apboardwalk.com/news/ev
 ents/billy-hectors-birthday-bash-2/
URL:https://apboardwalk.com/news/events/billy-hectors-birthday-bash-2/
END:VEVENT
END:VCALENDAR