BEGIN:VCALENDAR
VERSION:2.0
PRODID:-//eventon.com NONSGML v1.0//EN
CALSCALE:GREGORIAN
METHOD:PUBLISH
BEGIN:VEVENT
UID:69e4d44f76f08
DTSTAMP:20260419T131039Z
DTSTART:20250509T230000Z
DTEND:20250509T230000Z
LOCATION:The Stone Pony 913 Ocean Avenue Asbury Park\,  NJ 07712
SUMMARY:The Dandy Warhols
DESCRIPTION:THE DANDY WARHOLS Sisters of Your Sunshine Vapor\nhttps://apboa
 rdwalk.com/news/events/the-dandy-warhols/
URL:https://apboardwalk.com/news/events/the-dandy-warhols/
END:VEVENT
END:VCALENDAR