BEGIN:VCALENDAR
VERSION:2.0
PRODID:-//eventon.com NONSGML v1.0//EN
CALSCALE:GREGORIAN
METHOD:PUBLISH
BEGIN:VEVENT
UID:69eb21f455f4b
DTSTAMP:20260424T075532Z
DTSTART:20250425T230000Z
DTEND:20250425T230000Z
LOCATION:The Stone Pony 913 Ocean Avenue Asbury Park\,  NJ 07712
SUMMARY:Neon Trees
DESCRIPTION:NEON TREES The Tisburys\nhttps://apboardwalk.com/news/events/ne
 on-trees/
URL:https://apboardwalk.com/news/events/neon-trees/
END:VEVENT
END:VCALENDAR