BEGIN:VCALENDAR
VERSION:2.0
PRODID:-//eventon.com NONSGML v1.0//EN
CALSCALE:GREGORIAN
METHOD:PUBLISH
BEGIN:VEVENT
UID:69e5ff8e5cdf4
DTSTAMP:20260420T102726Z
DTSTART:20250329T230000Z
DTEND:20250330T033000Z
LOCATION:Wonder Bar 1213 Ocean Avenue Asbury Park\,  NJ 07712
SUMMARY:Moroccan Sheepherders
DESCRIPTION:Moroccan Sheepherders Two set show at 8:00pm The Moroccan Sheep
 herders have been rocking for over thirty years strong! The Sheepherders h
 ave grown one of top NJ&#8217;s largest rock n roll ensemble&#8217;s an ama
 zing party machine often with 10 to 15 musicians on stage with rotating mu
 sicians and singers. Their master song list[..]\nhttps://apboardwalk.com/ne
 ws/events/moroccan-sheepherders-4/
URL:https://apboardwalk.com/news/events/moroccan-sheepherders-4/
END:VEVENT
END:VCALENDAR