BEGIN:VCALENDAR
VERSION:2.0
PRODID:-//eventon.com NONSGML v1.0//EN
CALSCALE:GREGORIAN
METHOD:PUBLISH
BEGIN:VEVENT
UID:69e5defc00641
DTSTAMP:20260420T080828Z
DTSTART:20250606T210000Z
DTEND:20250607T023000Z
LOCATION:The Stone Pony Summer Stage 913 Ocean Avenue\,  Asbury Park NJ 07712
SUMMARY:Russell Dickerson
DESCRIPTION:RUSSELL DICKERSON RUSSELLMANIA on The Stone Pony Summer Stage w
 ith Niko Moon and Jake Scott Russell Dickerson is known for his electrifyin
 g performances and &#8220;unstoppable energy fans can’t get enough of” 
 (E! News). After bursting onto the scene\,  the Tennessee native quickly st
 ood out from the pack as he released[..]\nhttps://apboardwalk.com/news/even
 ts/russell-dickerson/
URL:https://apboardwalk.com/news/events/russell-dickerson/
END:VEVENT
END:VCALENDAR