BEGIN:VCALENDAR
VERSION:2.0
PRODID:-//eventon.com NONSGML v1.0//EN
CALSCALE:GREGORIAN
METHOD:PUBLISH
BEGIN:VEVENT
UID:69e5de9e77c9e
DTSTAMP:20260420T080654Z
DTSTART:20250125T000000Z
DTEND:20250125T000000Z
LOCATION:Wonder Bar 1213 Ocean Avenue Asbury Park\,  NJ 07712
SUMMARY:Wax Jaw
DESCRIPTION:WAX JAW &#8220;The Hardest Hitting Band in Philadelphia&#8221; 
 with support from Teen Idle Loveseat Pete 21+ Doors: 7 pm Show: 8 pm\nhttps
 ://apboardwalk.com/news/events/wax-jaw/
URL:https://apboardwalk.com/news/events/wax-jaw/
END:VEVENT
END:VCALENDAR