BEGIN:VCALENDAR
VERSION:2.0
PRODID:-//eventon.com NONSGML v1.0//EN
CALSCALE:GREGORIAN
METHOD:PUBLISH
BEGIN:VEVENT
UID:69e72ea091339
DTSTAMP:20260421T080032Z
DTSTART:20241124T020000Z
DTEND:20241124T020000Z
LOCATION:The Break 1000 Ocean Avenue
SUMMARY:Chevy Lopez\,  Groove Vultures
DESCRIPTION:Chevy Lopez\,  Groove Vultures\nhttps://apboardwalk.com/news/ev
 ents/chevy-lopez-groove-vultures/
URL:https://apboardwalk.com/news/events/chevy-lopez-groove-vultures/
END:VEVENT
END:VCALENDAR