BEGIN:VCALENDAR
VERSION:2.0
PRODID:-//eventon.com NONSGML v1.0//EN
CALSCALE:GREGORIAN
METHOD:PUBLISH
BEGIN:VEVENT
UID:69e5ff9842c49
DTSTAMP:20260420T102736Z
DTSTART:20240831T170000Z
DTEND:20240831T170000Z
LOCATION:The Break 1000 Ocean Avenue
SUMMARY:Bryan Smith
DESCRIPTION:Bryan Smith\nhttps://apboardwalk.com/news/events/bryan-smith/
URL:https://apboardwalk.com/news/events/bryan-smith/
END:VEVENT
END:VCALENDAR