BEGIN:VCALENDAR
VERSION:2.0
PRODID:-//eventon.com NONSGML v1.0//EN
CALSCALE:GREGORIAN
METHOD:PUBLISH
BEGIN:VEVENT
UID:69e72f8a75fe2
DTSTAMP:20260421T080426Z
DTSTART:20240810T020000Z
DTEND:20240810T020000Z
LOCATION:Low Dive 1000 Ocean Avenue
SUMMARY:Sound Etc.
DESCRIPTION:SOUND ETC.\nhttps://apboardwalk.com/news/events/sound-etc/
URL:https://apboardwalk.com/news/events/sound-etc/
END:VEVENT
END:VCALENDAR