BEGIN:VCALENDAR
VERSION:2.0
PRODID:-//eventon.com NONSGML v1.0//EN
CALSCALE:GREGORIAN
METHOD:PUBLISH
BEGIN:VEVENT
UID:69e5de86e856d
DTSTAMP:20260420T080630Z
DTSTART:20240811T230000Z
DTEND:20240811T230000Z
LOCATION:Tim McLoone’s Supper Club 1200 Ocean Avenue Asbury Park\,  NJ 07712
SUMMARY:Gypsy: Stevie Nicks Experience
DESCRIPTION:Gypsy: A True Stevie Nicks Experience Recreating and performin
 g the music of the bewitching rock icon\,  legendary singer-songwriter and 
 Fleetwood Mac front woman\,  Stevie Nicks.\nhttps://apboardwalk.com/news/ev
 ents/gypsy-stevie-nicks-experience-3/
URL:https://apboardwalk.com/news/events/gypsy-stevie-nicks-experience-3/
END:VEVENT
END:VCALENDAR