BEGIN:VCALENDAR
VERSION:2.0
PRODID:-//eventon.com NONSGML v1.0//EN
CALSCALE:GREGORIAN
METHOD:PUBLISH
BEGIN:VEVENT
UID:69e72ea5810ec
DTSTAMP:20260421T080037Z
DTSTART:20240803T170000Z
DTEND:20240803T170000Z
LOCATION:The Break 1000 Ocean Avenue
SUMMARY:Juan Julio O'Grady
DESCRIPTION:Juan Julio O&#8217;Grady\nhttps://apboardwalk.com/news/events/j
 uan-julio-ogrady-2/
URL:https://apboardwalk.com/news/events/juan-julio-ogrady-2/
END:VEVENT
END:VCALENDAR