BEGIN:VCALENDAR
VERSION:2.0
PRODID:-//eventon.com NONSGML v1.0//EN
CALSCALE:GREGORIAN
METHOD:PUBLISH
BEGIN:VEVENT
UID:69e5df0420a51
DTSTAMP:20260420T080836Z
DTSTART:20240926T230000Z
DTEND:20240926T230000Z
LOCATION:The Stone Pony 913 Ocean Avenue Asbury Park\,  NJ 07712
SUMMARY:Reverend Horton Heat
DESCRIPTION:Reverend Horton Heat Jittery Jack Big Sandy\nhttps://apboardwal
 k.com/news/events/reverend-horton-heat-2/
URL:https://apboardwalk.com/news/events/reverend-horton-heat-2/
END:VEVENT
END:VCALENDAR