BEGIN:VCALENDAR
VERSION:2.0
PRODID:-//eventon.com NONSGML v1.0//EN
CALSCALE:GREGORIAN
METHOD:PUBLISH
BEGIN:VEVENT
UID:69e5ff1b1a1e1
DTSTAMP:20260420T102531Z
DTSTART:20241024T230000Z
DTEND:20241024T230000Z
LOCATION:Wonder Bar 1213 Ocean Avenue Asbury Park\,  NJ 07712
SUMMARY:Will Hoge
DESCRIPTION:WILL HOGE Jett Holden The Wonder Bar is happy to welcome back W
 ill Hoge! Will has a career whose milestones include No. 1 hits\,  Grammy n
 ods\,  major label record deals\,  and hard-won independence. Years before 
 Americana music received its own category at the Grammys\,  Hoge was on the
  frontlines\,  helping[..]\nhttps://apboardwalk.com/news/events/will-hoge-2
 /
URL:https://apboardwalk.com/news/events/will-hoge-2/
END:VEVENT
END:VCALENDAR