BEGIN:VCALENDAR
VERSION:2.0
PRODID:-//eventon.com NONSGML v1.0//EN
CALSCALE:GREGORIAN
METHOD:PUBLISH
BEGIN:VEVENT
UID:69e5dee60d709
DTSTAMP:20260420T080806Z
DTSTART:20240718T000000Z
DTEND:20240718T000000Z
LOCATION:Beachfront
SUMMARY:Bonfire on the Beach
DESCRIPTION:Bonfires are back! The fires will burn… Wednesdays at 8 pm in
  July + August Fridays at 7 pm in September Bonfires will be located at dif
 ferent beach locations along the boardwalk each week Please follow our soci
 al media channels for location updates and cancellations July 24 at the 1st
 [..]\nhttps://apboardwalk.com/news/events/bonfire-on-the-beach-5/
URL:https://apboardwalk.com/news/events/bonfire-on-the-beach-5/
END:VEVENT
END:VCALENDAR