BEGIN:VCALENDAR
VERSION:2.0
PRODID:-//eventon.com NONSGML v1.0//EN
CALSCALE:GREGORIAN
METHOD:PUBLISH
BEGIN:VEVENT
UID:69e7668f0d0b9
DTSTAMP:20260421T115911Z
DTSTART:20240804T230000Z
DTEND:20240804T230000Z
LOCATION:Wonder Bar 1213 Ocean Avenue Asbury Park\,  NJ 07712
SUMMARY:CANCELLED: Derek Zanetti
DESCRIPTION:Hey Y’all Derek Here\,  I have some rather unfortunate news t
 o relay. Last month I caught pneumonia and was sick as a dog but figured I 
 would be well over it by the time tour starts. Turns out I coughed so hard 
 I tore my vocal cord and will need[..]\nhttps://apboardwalk.com/news/events
 /derek-zanetti/
URL:https://apboardwalk.com/news/events/derek-zanetti/
END:VEVENT
END:VCALENDAR