BEGIN:VCALENDAR
VERSION:2.0
PRODID:-//eventon.com NONSGML v1.0//EN
CALSCALE:GREGORIAN
METHOD:PUBLISH
BEGIN:VEVENT
UID:69e7427c7380d
DTSTAMP:20260421T092516Z
DTSTART:20240418T233000Z
DTEND:20240418T233000Z
LOCATION:Tim McLoone’s Supper Club 1200 Ocean Avenue Asbury Park\,  NJ 07712
SUMMARY:The Jersey Four
DESCRIPTION:The Jersey Four  with special guests The Candy Girls Tribute t
 o Frankie Valli &amp; The Four Seasons The Jersey Four is an explosive trib
 ute to Frankie Valli and the 4 Seasons performing all their original Number
  #1 Hits such as Sherry\,  Big Girls Don&#8217;t Cry\,  Rag Doll\,  Walk Li
 ke A[..]\nhttps://apboardwalk.com/news/events/the-jersey-four-3/
URL:https://apboardwalk.com/news/events/the-jersey-four-3/
END:VEVENT
END:VCALENDAR