BEGIN:VCALENDAR
VERSION:2.0
PRODID:-//eventon.com NONSGML v1.0//EN
CALSCALE:GREGORIAN
METHOD:PUBLISH
BEGIN:VEVENT
UID:69e615a6714f7
DTSTAMP:20260420T120142Z
DTSTART:20240531T223000Z
DTEND:20240601T023000Z
LOCATION:The Stone Pony Summer Stage 913 Ocean Avenue\,  Asbury Park NJ 07712
SUMMARY:Dreamland Pride in Asbury Park with Purple Disco Machine
DESCRIPTION:Dreamland Pride in Asbury Park with Purple Disco Machine DJ Mat
 t Suave on The Stone Pony Summer Stage\nhttps://apboardwalk.com/news/events
 /dreamland-pride-in-asbury-park-with-purple-disco-machine/
URL:https://apboardwalk.com/news/events/dreamland-pride-in-asbury-park-with-purple-disco-machine/
END:VEVENT
END:VCALENDAR