BEGIN:VCALENDAR
VERSION:2.0
PRODID:-//eventon.com NONSGML v1.0//EN
CALSCALE:GREGORIAN
METHOD:PUBLISH
BEGIN:VEVENT
UID:69e9d6e99f7ec
DTSTAMP:20260423T082305Z
DTSTART:20240607T230000Z
DTEND:20240607T230000Z
LOCATION:Wonder Bar 1213 Ocean Avenue Asbury Park\,  NJ 07712
SUMMARY:Thee Sinseers & The Altons
DESCRIPTION:Thee Sinseers &amp; The Altons: Sinseerly Yours Tour Benny Trok
 an 21+\nhttps://apboardwalk.com/news/events/thee-sinseers-the-altons/
URL:https://apboardwalk.com/news/events/thee-sinseers-the-altons/
END:VEVENT
END:VCALENDAR