BEGIN:VCALENDAR
VERSION:2.0
PRODID:-//eventon.com NONSGML v1.0//EN
CALSCALE:GREGORIAN
METHOD:PUBLISH
BEGIN:VEVENT
UID:69e88333d3310
DTSTAMP:20260422T081339Z
DTSTART:20240322T230000Z
DTEND:20240322T230000Z
LOCATION:Wonder Bar 1213 Ocean Avenue Asbury Park\,  NJ 07712
SUMMARY:Eddie Testa Band
DESCRIPTION:Eddie Testa Band Rock &#8216;n&#8217; Soul Dance Party Join us 
 for Ruthanne Harrison&#8217;s Birthday Bash! The incomparable Eddie Testa a
 nd his red hot 6-piece band always deliver the good times at the Wonder Bar
 ! A night of good time rock &#8216;n&#8217; roll with two long sets. Doors 
 7 pm Showtime 8[..]\nhttps://apboardwalk.com/news/events/eddie-testa-band-
 5/
URL:https://apboardwalk.com/news/events/eddie-testa-band-5/
END:VEVENT
END:VCALENDAR