BEGIN:VCALENDAR
VERSION:2.0
PRODID:-//eventon.com NONSGML v1.0//EN
CALSCALE:GREGORIAN
METHOD:PUBLISH
BEGIN:VEVENT
UID:69e778d729fb8
DTSTAMP:20260421T131711Z
DTSTART:20240128T000000Z
DTEND:20240128T000000Z
LOCATION:Wonder Bar 1213 Ocean Avenue Asbury Park\,  NJ 07712
SUMMARY:The Well Wish
DESCRIPTION:THE WELL WISH The Well Wish hosts a night of female fronted NJ 
 bands: Ladies Night Rocks\,  The Fake Pockets\,  and Kiersten Blue &amp; th
 e Cold Tones. Doors Â Â Â Â Â Â Â Â Â Â Â Â Â Â Â Â Â Â 7:00 pm ShowtimeÂ Â
  Â Â Â Â Â Â Â Â  Â 8:00pm Price:Â Â Â Â Â Â Â Â Â Â Â Â Â Â Â Â Â  Â $15.0
 0 adv/$18.00 dos (plus applicable service charges) 21 and up\nhttps://apboa
 rdwalk.com/news/events/the-well-wish-3/
URL:https://apboardwalk.com/news/events/the-well-wish-3/
END:VEVENT
END:VCALENDAR