BEGIN:VCALENDAR
VERSION:2.0
PRODID:-//eventon.com NONSGML v1.0//EN
CALSCALE:GREGORIAN
METHOD:PUBLISH
BEGIN:VEVENT
UID:69e76a98adf65
DTSTAMP:20260421T121624Z
DTSTART:20231231T180000Z
DTEND:20231231T180000Z
LOCATION:The Break 1000 Ocean Avenue
SUMMARY:Predator Dub Assassins
DESCRIPTION:Predator Dub Assassins (acoustic)\nhttps://apboardwalk.com/news
 /events/predator-dub-assassins-4/
URL:https://apboardwalk.com/news/events/predator-dub-assassins-4/
END:VEVENT
END:VCALENDAR