BEGIN:VCALENDAR
VERSION:2.0
PRODID:-//eventon.com NONSGML v1.0//EN
CALSCALE:GREGORIAN
METHOD:PUBLISH
BEGIN:VEVENT
UID:69e4c63972741
DTSTAMP:20260419T121033Z
DTSTART:20231224T180000Z
DTEND:20231224T180000Z
LOCATION:The Break 1000 Ocean Avenue
SUMMARY:Brother Andrew
DESCRIPTION:BROTHER ANDREW &amp; NICOLE SCORSONE &nbsp;\nhttps://apboardwal
 k.com/news/events/brother-andrew-nicole-scorsone/
URL:https://apboardwalk.com/news/events/brother-andrew-nicole-scorsone/
END:VEVENT
END:VCALENDAR