BEGIN:VCALENDAR
VERSION:2.0
PRODID:-//eventon.com NONSGML v1.0//EN
CALSCALE:GREGORIAN
METHOD:PUBLISH
BEGIN:VEVENT
UID:69e7404b7a955
DTSTAMP:20260421T091555Z
DTSTART:20231112T000000Z
DTEND:20231112T000000Z
LOCATION:The Stone Pony 913 Ocean Avenue Asbury Park\,  NJ 07712
SUMMARY:Soule Monde with Dezron Douglas
DESCRIPTION:Soule Monde with Dezron Douglas Tom Marshall’s 60th Birthday 
 Party with the Anthony Krizan Band Soule Monde is avant funk born of the sy
 ncopated minds of power drummer Russ Lawton and organ wizard Ray Paczkowski
 . The “duo” is cemented into an indestructible unit\,  where bold impro
 visational leaps are interpreted telepathically[..]\nhttps://apboardwalk.co
 m/news/events/soule-monde-with-dezron-douglas/
URL:https://apboardwalk.com/news/events/soule-monde-with-dezron-douglas/
END:VEVENT
END:VCALENDAR