BEGIN:VCALENDAR
VERSION:2.0
PRODID:-//eventon.com NONSGML v1.0//EN
CALSCALE:GREGORIAN
METHOD:PUBLISH
BEGIN:VEVENT
UID:69e5de4963fc2
DTSTAMP:20260420T080529Z
DTSTART:20231125T000000Z
DTEND:20231125T000000Z
LOCATION:The Stone Pony 913 Ocean Avenue Asbury Park\,  NJ 07712
SUMMARY:Smithereens with Robin Wilson
DESCRIPTION:The Smithereens featuring Robin Wilson of Gin Blossoms Door 7:0
 0\,  Show 8:00 to 11:30\nhttps://apboardwalk.com/news/events/smithereens-wi
 th-gin-blossoms-robin-wilson/
URL:https://apboardwalk.com/news/events/smithereens-with-gin-blossoms-robin-wilson/
END:VEVENT
END:VCALENDAR