BEGIN:VCALENDAR
VERSION:2.0
PRODID:-//eventon.com NONSGML v1.0//EN
CALSCALE:GREGORIAN
METHOD:PUBLISH
BEGIN:VEVENT
UID:69ece5e3b55df
DTSTAMP:20260425T160347Z
DTSTART:20230908T230000Z
DTEND:20230908T230000Z
LOCATION:Wonder Bar 1213 Ocean Avenue Asbury Park\,  NJ 07712
SUMMARY:Crystal Ship 
DESCRIPTION:Crystal Ship  A Renaissance of the Doors with special guest Co
 lossal Street Jam In the early &#8217;80s\,  there was a band that dominate
 d the club scene like no other. In the heyday of the Jersey circuit\,  thei
 r record of prominence over all the other bands on the scene was unchalleng
 ed.[..]\nhttps://apboardwalk.com/news/events/crystal-ship/
URL:https://apboardwalk.com/news/events/crystal-ship/
END:VEVENT
END:VCALENDAR