BEGIN:VCALENDAR
VERSION:2.0
PRODID:-//eventon.com NONSGML v1.0//EN
CALSCALE:GREGORIAN
METHOD:PUBLISH
BEGIN:VEVENT
UID:69e72f85706be
DTSTAMP:20260421T080421Z
DTSTART:20230825T220000Z
DTEND:20230826T023000Z
LOCATION:The Stone Pony Summer Stage 913 Ocean Avenue\,  Asbury Park NJ 07712
SUMMARY:Gimme Gimme Disco
DESCRIPTION:Gimme Gimme Disco Door: 6:00 PM Show: 7:00 PM &nbsp;\nhttps://a
 pboardwalk.com/news/events/gimme-gimme-disco/
URL:https://apboardwalk.com/news/events/gimme-gimme-disco/
END:VEVENT
END:VCALENDAR